BEGIN:VCALENDAR
VERSION:2.0
PRODID:icalendar-ruby
CALSCALE:GREGORIAN
METHOD:PUBLISH
BEGIN:VEVENT
DTSTAMP:20260422T065748Z
UID:14-993968@vclopcg.com
DTSTART:20261022T013000Z
DTEND:20261022T023000Z
CLASS:PUBLIC
CREATED:20260421T174841
DESCRIPTION:Worship &amp\; Bible Study
LAST-MODIFIED:20260421T174841
LOCATION:VCLO
SUMMARY:Worship & Bible Study
URL;VALUE=URI:https://vclopcg.com/events/worship-bible-study/2026-10-21
END:VEVENT
END:VCALENDAR
