BEGIN:VCALENDAR
VERSION:2.0
PRODID:icalendar-ruby
CALSCALE:GREGORIAN
METHOD:PUBLISH
BEGIN:VEVENT
DTSTAMP:20260421T235956Z
UID:14-993497@vclopcg.com
DTSTART:20260924T013000Z
DTEND:20260924T023000Z
CLASS:PUBLIC
CREATED:20260421T151004
DESCRIPTION:Worship &amp\; Bible Study
LAST-MODIFIED:20260421T151004
LOCATION:VCLO
SUMMARY:Worship & Bible Study
URL;VALUE=URI:https://vclopcg.com/events/worship-bible-study/2026-09-23
END:VEVENT
END:VCALENDAR
