BEGIN:VCALENDAR
VERSION:2.0
PRODID:icalendar-ruby
CALSCALE:GREGORIAN
METHOD:PUBLISH
BEGIN:VEVENT
DTSTAMP:20260423T090531Z
UID:14-996765@vclopcg.com
DTSTART:20260917T013000Z
DTEND:20260917T023000Z
CLASS:PUBLIC
CREATED:20260422T192322
DESCRIPTION:Worship &amp\; Bible Study
LAST-MODIFIED:20260422T192322
LOCATION:VCLO
SUMMARY:Worship & Bible Study
URL;VALUE=URI:https://vclopcg.com/events/worship-bible-study/2026-09-16
END:VEVENT
END:VCALENDAR
