BEGIN:VCALENDAR
VERSION:2.0
PRODID:icalendar-ruby
CALSCALE:GREGORIAN
METHOD:PUBLISH
BEGIN:VEVENT
DTSTAMP:20260421T184740Z
UID:14-992560@vclopcg.com
DTSTART:20260903T013000Z
DTEND:20260903T023000Z
CLASS:PUBLIC
CREATED:20260421T095526
DESCRIPTION:Worship &amp\; Bible Study
LAST-MODIFIED:20260421T095526
LOCATION:VCLO
SUMMARY:Worship & Bible Study
URL;VALUE=URI:https://vclopcg.com/events/worship-bible-study/2026-09-02
END:VEVENT
END:VCALENDAR
