BEGIN:VCALENDAR
VERSION:2.0
PRODID:icalendar-ruby
CALSCALE:GREGORIAN
METHOD:PUBLISH
BEGIN:VEVENT
DTSTAMP:20260421T141435Z
UID:14-991623@vclopcg.com
DTSTART:20260813T013000Z
DTEND:20260813T023000Z
CLASS:PUBLIC
CREATED:20260421T044055
DESCRIPTION:Worship &amp\; Bible Study
LAST-MODIFIED:20260421T044055
LOCATION:VCLO
SUMMARY:Worship & Bible Study
URL;VALUE=URI:https://vclopcg.com/events/worship-bible-study/2026-08-12
END:VEVENT
END:VCALENDAR
