BEGIN:VCALENDAR
VERSION:2.0
PRODID:icalendar-ruby
CALSCALE:GREGORIAN
METHOD:PUBLISH
BEGIN:VEVENT
DTSTAMP:20260421T124306Z
UID:14-991622@vclopcg.com
DTSTART:20260806T013000Z
DTEND:20260806T023000Z
CLASS:PUBLIC
CREATED:20260421T044055
DESCRIPTION:Worship &amp\; Bible Study
LAST-MODIFIED:20260421T044055
LOCATION:VCLO
SUMMARY:Worship & Bible Study
URL;VALUE=URI:https://vclopcg.com/events/worship-bible-study/2026-08-05
END:VEVENT
END:VCALENDAR
