BEGIN:VCALENDAR
VERSION:2.0
PRODID:icalendar-ruby
CALSCALE:GREGORIAN
METHOD:PUBLISH
BEGIN:VEVENT
DTSTAMP:20260421T112449Z
UID:14-991154@vclopcg.com
DTSTART:20260730T013000Z
DTEND:20260730T023000Z
CLASS:PUBLIC
CREATED:20260420T173427
DESCRIPTION:Worship &amp\; Bible Study
LAST-MODIFIED:20260420T173427
LOCATION:VCLO
SUMMARY:Worship & Bible Study
URL;VALUE=URI:https://vclopcg.com/events/worship-bible-study/2026-07-29
END:VEVENT
END:VCALENDAR
