BEGIN:VCALENDAR
VERSION:2.0
PRODID:icalendar-ruby
CALSCALE:GREGORIAN
METHOD:PUBLISH
BEGIN:VEVENT
DTSTAMP:20260424T062440Z
UID:20-999647@vclopcg.com
DTSTART:20261015T013000Z
DTEND:20261015T023000Z
CLASS:PUBLIC
CREATED:20260423T192532
DESCRIPTION:The Crew Young Adults
LAST-MODIFIED:20260423T192532
LOCATION:VCLO
SUMMARY:The Crew Young Adults
URL;VALUE=URI:https://vclopcg.com/events/the-crew-young-adults/2026-10-14
END:VEVENT
END:VCALENDAR
