BEGIN:VCALENDAR
VERSION:2.0
PRODID:icalendar-ruby
CALSCALE:GREGORIAN
METHOD:PUBLISH
BEGIN:VEVENT
DTSTAMP:20260424T044436Z
UID:20-999646@vclopcg.com
DTSTART:20261008T013000Z
DTEND:20261008T023000Z
CLASS:PUBLIC
CREATED:20260423T192532
DESCRIPTION:The Crew Young Adults
LAST-MODIFIED:20260423T192532
LOCATION:VCLO
SUMMARY:The Crew Young Adults
URL;VALUE=URI:https://vclopcg.com/events/the-crew-young-adults/2026-10-07
END:VEVENT
END:VCALENDAR
