BEGIN:VCALENDAR
VERSION:2.0
PRODID:icalendar-ruby
CALSCALE:GREGORIAN
METHOD:PUBLISH
BEGIN:VEVENT
DTSTAMP:20260424T001318Z
UID:20-999174@vclopcg.com
DTSTART:20260917T013000Z
DTEND:20260917T023000Z
CLASS:PUBLIC
CREATED:20260423T163132
DESCRIPTION:The Crew Young Adults
LAST-MODIFIED:20260423T163132
LOCATION:VCLO
SUMMARY:The Crew Young Adults
URL;VALUE=URI:https://vclopcg.com/events/the-crew-young-adults/2026-09-16
END:VEVENT
END:VCALENDAR
