BEGIN:VCALENDAR
VERSION:2.0
PRODID:icalendar-ruby
CALSCALE:GREGORIAN
METHOD:PUBLISH
BEGIN:VEVENT
DTSTAMP:20260423T224318Z
UID:20-998704@vclopcg.com
DTSTART:20260910T013000Z
DTEND:20260910T023000Z
CLASS:PUBLIC
CREATED:20260423T133750
DESCRIPTION:The Crew Young Adults
LAST-MODIFIED:20260423T133750
LOCATION:VCLO
SUMMARY:The Crew Young Adults
URL;VALUE=URI:https://vclopcg.com/events/the-crew-young-adults/2026-09-09
END:VEVENT
END:VCALENDAR
