BEGIN:VCALENDAR
VERSION:2.0
PRODID:icalendar-ruby
CALSCALE:GREGORIAN
METHOD:PUBLISH
BEGIN:VEVENT
DTSTAMP:20260423T154251Z
UID:20-997762@vclopcg.com
DTSTART:20260813T013000Z
DTEND:20260813T023000Z
CLASS:PUBLIC
CREATED:20260423T074630
DESCRIPTION:The Crew Young Adults
LAST-MODIFIED:20260423T074630
LOCATION:VCLO
SUMMARY:The Crew Young Adults
URL;VALUE=URI:https://vclopcg.com/events/the-crew-young-adults/2026-08-12
END:VEVENT
END:VCALENDAR
