BEGIN:VCALENDAR
VERSION:2.0
PRODID:icalendar-ruby
CALSCALE:GREGORIAN
METHOD:PUBLISH
BEGIN:VEVENT
DTSTAMP:20260423T121102Z
UID:20-997291@vclopcg.com
DTSTART:20260730T013000Z
DTEND:20260730T023000Z
CLASS:PUBLIC
CREATED:20260423T045318
DESCRIPTION:The Crew Young Adults
LAST-MODIFIED:20260423T045318
LOCATION:VCLO
SUMMARY:The Crew Young Adults
URL;VALUE=URI:https://vclopcg.com/events/the-crew-young-adults/2026-07-29
END:VEVENT
END:VCALENDAR
