BEGIN:VCALENDAR
VERSION:2.0
PRODID:icalendar-ruby
CALSCALE:GREGORIAN
METHOD:PUBLISH
BEGIN:VEVENT
DTSTAMP:20260421T112254Z
UID:6-990916@vclopcg.com
DTSTART:20261101T180000Z
DTEND:20261101T190000Z
CLASS:PUBLIC
CREATED:20260420T173426
DESCRIPTION:Sunday Worship
LAST-MODIFIED:20260420T173426
LOCATION:VCLO
SUMMARY:Sunday Worship
URL;VALUE=URI:https://vclopcg.com/events/sunday-worship--6/2026-11-01
END:VEVENT
END:VCALENDAR
