BEGIN:VCALENDAR
VERSION:2.0
PRODID:icalendar-ruby
CALSCALE:GREGORIAN
METHOD:PUBLISH
BEGIN:VEVENT
DTSTAMP:20260421T093951Z
UID:6-990915@vclopcg.com
DTSTART:20261025T170000Z
DTEND:20261025T180000Z
CLASS:PUBLIC
CREATED:20260420T173426
DESCRIPTION:Sunday Worship
LAST-MODIFIED:20260420T173426
LOCATION:VCLO
SUMMARY:Sunday Worship
URL;VALUE=URI:https://vclopcg.com/events/sunday-worship--6/2026-10-25
END:VEVENT
END:VCALENDAR
